BEGIN:VCALENDAR
VERSION:2.0
PRODID:-//Plateforme Régionale des Collections des Herbiers d’Afrique de l&#039;Ouest et d&#039;Afrique Centrale - ECPv5.15.0.1//NONSGML v1.0//EN
CALSCALE:GREGORIAN
METHOD:PUBLISH
X-WR-CALNAME:Plateforme Régionale des Collections des Herbiers d’Afrique de l&#039;Ouest et d&#039;Afrique Centrale
X-ORIGINAL-URL:http://www.african-herbaria.org
X-WR-CALDESC:Events for Plateforme Régionale des Collections des Herbiers d’Afrique de l&#039;Ouest et d&#039;Afrique Centrale
REFRESH-INTERVAL;VALUE=DURATION:PT1H
X-Robots-Tag:noindex
X-PUBLISHED-TTL:PT1H
BEGIN:VTIMEZONE
TZID:Africa/Lome
BEGIN:STANDARD
TZOFFSETFROM:+0000
TZOFFSETTO:+0000
TZNAME:GMT
DTSTART:20220101T000000
END:STANDARD
END:VTIMEZONE
BEGIN:VEVENT
DTSTART;VALUE=DATE:20221222
DTEND;VALUE=DATE:20221224
DTSTAMP:20260423T120054
CREATED:20230214T094014Z
LAST-MODIFIED:20230214T104115Z
UID:1991-1671667200-1671839999@www.african-herbaria.org
SUMMARY:Atelier de restitution à Conakry (Guinée)
DESCRIPTION:Les 22 et 23 Décembre 2022\, à l’Herbier National de Guinée\, de l’Université Gamal Abdel Nasser de Conakry\, Guinée\, s’est tenue la restitution de l’atelier de prise en main de la plateforme régionale des données de la Biodiversité du projet GBIF BID-AF2020-040-REG \nCalendrier de la restitution Guinée
URL:http://www.african-herbaria.org/event/atelier-de-restitution-a-conakry-guinee/
LOCATION:Herbier National de Guinée (HNG)\, Université Gamal Abdel Nasser de Guinée\, Conakry\, +224\, Guinée
CATEGORIES:Guinée
ORGANIZER;CN="Herbier%20National%20de%20Guin%C3%A9e%20%28HNG%29":MAILTO:nationalherbiergune@yahoo.fr
END:VEVENT
END:VCALENDAR