BEGIN:VCALENDAR
VERSION:2.0
PRODID:-//Plateforme Régionale des Collections des Herbiers d’Afrique de l&#039;Ouest et d&#039;Afrique Centrale - ECPv5.15.0.1//NONSGML v1.0//EN
CALSCALE:GREGORIAN
METHOD:PUBLISH
X-WR-CALNAME:Plateforme Régionale des Collections des Herbiers d’Afrique de l&#039;Ouest et d&#039;Afrique Centrale
X-ORIGINAL-URL:http://www.african-herbaria.org
X-WR-CALDESC:Events for Plateforme Régionale des Collections des Herbiers d’Afrique de l&#039;Ouest et d&#039;Afrique Centrale
REFRESH-INTERVAL;VALUE=DURATION:PT1H
X-Robots-Tag:noindex
X-PUBLISHED-TTL:PT1H
BEGIN:VTIMEZONE
TZID:Africa/Lome
BEGIN:STANDARD
TZOFFSETFROM:+0000
TZOFFSETTO:+0000
TZNAME:GMT
DTSTART:20220101T000000
END:STANDARD
END:VTIMEZONE
BEGIN:VEVENT
DTSTART;VALUE=DATE:20221028
DTEND;VALUE=DATE:20221029
DTSTAMP:20260423T150103
CREATED:20230120T141952Z
LAST-MODIFIED:20230214T105311Z
UID:1979-1666915200-1667001599@www.african-herbaria.org
SUMMARY:Atelier de restitution à Abidjan (Côte d'Ivoire)
DESCRIPTION:Le vendredi 28 octobre 2022 à la salle de Conférences ABOU KARAMOKO du Centre\nNational de Floristique\, de Université Félix Houphouët-Boigny\, Côte d’Ivoire\, s’est tenue la\nrestitution de l’atelier de prise en main de la plateforme régionale de partage des données de la\nBiodiversité du projet GBIF BID-AF2020-040-REG.
URL:http://www.african-herbaria.org/event/atelier-de-restitution-a-abidjan-cote-divoire/
LOCATION:CENTRE NATIONAL DE FLORISTIQUE (CNF)\, 22 BP 582 Abidjan 22\, Abidjan\, Abidjan\, 22 BP 582 Abidjan 22\, Côte d'Ivoire
CATEGORIES:Côte d'Ivoire
END:VEVENT
END:VCALENDAR